BEGIN:VCALENDAR
METHOD:PUBLISH
PRODID:-//github.com/rianjs/ical.net//NONSGML ical.net 4.0//EN
URL:https://www.leicesterunion.com/ents/event/ics/4773/
VERSION:2.0
X-PUBLISHED-TTL:PT1H
X-WR-CALNAME:Pro Bono Awards evening (4773)
BEGIN:VTIMEZONE
TZID:GMT Standard Time
X-LIC-LOCATION:Europe/London
BEGIN:STANDARD
DTSTART:20241027T020000
RRULE:FREQ=YEARLY;BYDAY=4SU;BYMONTH=10
TZNAME:GMT
TZOFFSETFROM:+0100
TZOFFSETTO:+0000
END:STANDARD
BEGIN:DAYLIGHT
DTSTART:20250330T010000
RRULE:FREQ=YEARLY;BYDAY=-1SU;BYMONTH=3
TZNAME:BST
TZOFFSETFROM:+0000
TZOFFSETTO:+0100
END:DAYLIGHT
END:VTIMEZONE
BEGIN:VEVENT
CATEGORIES:Student Awards
CREATED:20230224T155718
DESCRIPTION:Pro Bono Awards evening\nJoin us for a night of celebrating yo
 ur hard work over this academic year!\n\nIf you are vegan please email us
  ahead of purchasing a ticket either at probono@le.ac.uk - we can't guara
 ntee a full vegan menu\n\nhttps://www.leicesterunion.com/events/7672/4773
 /\n
DTEND:20230322T223000
DTSTAMP:20260425T141323Z
DTSTART:20230322T170000
LAST-MODIFIED:20230302T191903
LOCATION:The Grand Hotel Leicester (Mercure) Granby street
SEQUENCE:0
SUMMARY:Pro Bono Awards evening
UID:ff0a6d08-d036-4632-8e86-890a5bdd395a
URL:https://www.leicesterunion.com/events/7672/4773/
X-ALT-DESC;FMTTYPE=text/html:<html><head><base href="https://www.leicester
 union.com"></head><body><p>Pro Bono Awards evening\nJoin us for a night o
 f celebrating your hard work over this academic year!\n\nIf you are vegan
  please email us ahead of purchasing a ticket either at probono@le.ac.uk 
 - we can't guarantee a full vegan menu</p><p>https://www.leicesterunion.c
 om/events/7672/4773/</p>\n<p>Pro Bono Awards evening<br />\nJoin us for a
  night of celebrating your hard work over this academic year!<br />\nTick
 et price includes<br />\n3 course meal<br />\nDisco + DJ<br />\nWelcome d
 rink and bar access</p>\n\n<p>The committee have made a commitment to acc
 essibility and have done everything possible to get this ticket price as 
 cheap as possible so all our members can join us\, if you still have fina
 ncial/accessibility concerns please email kik2@student.le.ac.uk</p>\n\n<p
 >If you are vegan please email us ahead of purchasing a ticket either at 
 the above email or probono@le.ac.uk - we currently can not guarantee that
  we will be able to supply a full vegan alternative menu</p></body></html
 >
END:VEVENT
END:VCALENDAR
