BEGIN:VCALENDAR
METHOD:PUBLISH
PRODID:-//github.com/rianjs/ical.net//NONSGML ical.net 4.0//EN
URL:https://www.leicesterunion.com/ents/event/ics/4846/
VERSION:2.0
X-PUBLISHED-TTL:PT1H
X-WR-CALNAME:Nursing End of Year Ball (4846)
BEGIN:VTIMEZONE
TZID:GMT Standard Time
X-LIC-LOCATION:Europe/London
BEGIN:STANDARD
DTSTART:20241027T020000
RRULE:FREQ=YEARLY;BYDAY=4SU;BYMONTH=10
TZNAME:GMT
TZOFFSETFROM:+0100
TZOFFSETTO:+0000
END:STANDARD
BEGIN:DAYLIGHT
DTSTART:20250330T010000
RRULE:FREQ=YEARLY;BYDAY=-1SU;BYMONTH=3
TZNAME:BST
TZOFFSETFROM:+0000
TZOFFSETTO:+0100
END:DAYLIGHT
END:VTIMEZONE
BEGIN:VEVENT
CATEGORIES:Student Group
CREATED:20230322T165041
DESCRIPTION:Join us for our first end of year ball at the Grand Hotel!\n\n
 https://www.leicesterunion.com/events/18972/4846/\n
DTEND:20230609T230000
DTSTAMP:20260425T040422Z
DTSTART:20230609T170000
LAST-MODIFIED:20230426T180518
LOCATION:Grand Hotel Granby Street
SEQUENCE:0
SUMMARY:Nursing End of Year Ball
UID:3692bc00-1697-43fe-a8e2-344f80364e48
URL:https://www.leicesterunion.com/events/18972/4846/
X-ALT-DESC;FMTTYPE=text/html:<html><head><base href="https://www.leicester
 union.com"></head><body><p>Join us for our first end of year ball at the 
 Grand Hotel!</p><p>https://www.leicesterunion.com/events/18972/4846/</p>\
 n<p>The news you&#39\;ve all been waiting for! Our end of year ball is go
 ing ahead! It will be held on the 9th&nbsp\;June (times will be confirmed
  closer to the event) and is open to all students and staff within the nu
 rsing school! We hope you will be able to join us!</p>\n\n<p>Included in 
 the price is:</p>\n\n<ul>\n	<li>A glass of prosecco or mocktail on arriva
 l\,</li>\n	<li>A three course meal\, accompanied by a drink\,</li>\n	<li>
 A DJ for the evening.</li>\n</ul>\n\n<p>The price will be &pound\;30pp fo
 r society members (each member is limited to one ticket) and &pound\;40pp
  for anyone who isn&#39\;t a member (This is for students\, staff and plu
 s ones).&nbsp\;</p>\n\n<p>Tickets will be on sale for two weeks from 13/0
 4/2023 until 15/05/23.</p>\n\n<p>All dietry requirements can be catered t
 o by the venue.</p>\n\n<p>When you have purhcased a ticket. Please could 
 you send an email to dh332@student.le.ac.uk&nbsp\;with the subject &quot\
 ;Nursing ball ticket&quot\; and include&nbsp\;names of the people the tic
 kets are for and with the food orders selected from the options below\, w
 ith any additional dietry&nbsp\;requirements.</p>\n\n<p>Starter:&nbsp\;<s
 trong>Slow Roasted Tomato Soup&nbsp\;</strong>(GF) (V) (Ve)<br />\n&nbsp\
 ; &nbsp\; &nbsp\; &nbsp\; &nbsp\; &nbsp\; &nbsp\;<strong>Greek Salad</str
 ong>&nbsp\;(V)</p>\n\n<p><br />\nMain:&nbsp\;<strong>Roast Chicken Suprem
 e</strong>&nbsp\;(with red onion and thyme stuffing\, roast chicken gravy
 )<br />\n&nbsp\; &nbsp\; &nbsp\; &nbsp\; &nbsp\;&nbsp\;<strong>Celeriac\,
  white bean\, mushroom and sage cassoulet&nbsp\;</strong>(GF) (V) (Ve)<br
  />\n&nbsp\; &nbsp\; &nbsp\; &nbsp\; &nbsp\;<strong>Seared Salmon&nbsp\;<
 /strong>(with crispy leeks and champagne sauce) (Champagne sauce can be r
 eplaced with a non-alcoholic version)</p>\n\n<p>&nbsp\;</p>\n\n<p>Dessert
 : <strong>Vanilla Panna Cotta&nbsp\;</strong>(with Raspberry puree) (Vega
 n Option available)<br />\n&nbsp\; &nbsp\; &nbsp\; &nbsp\; &nbsp\; &nbsp\
 ; &nbsp\; <strong>Sticky Toffee Pudding</strong>&nbsp\;&nbsp\;</p></body>
 </html>
END:VEVENT
END:VCALENDAR
