BEGIN:VCALENDAR
METHOD:PUBLISH
PRODID:-//github.com/rianjs/ical.net//NONSGML ical.net 4.0//EN
URL:https://www.leicesterunion.com/ents/event/ics/5058/
VERSION:2.0
X-PUBLISHED-TTL:PT1H
X-WR-CALNAME:Give it a Go - Friendship Bracelets. (5058)
BEGIN:VTIMEZONE
TZID:GMT Standard Time
X-LIC-LOCATION:Europe/London
BEGIN:STANDARD
DTSTART:20241027T020000
RRULE:FREQ=YEARLY;BYDAY=4SU;BYMONTH=10
TZNAME:GMT
TZOFFSETFROM:+0100
TZOFFSETTO:+0000
END:STANDARD
BEGIN:DAYLIGHT
DTSTART:20250330T010000
RRULE:FREQ=YEARLY;BYDAY=-1SU;BYMONTH=3
TZNAME:BST
TZOFFSETFROM:+0000
TZOFFSETTO:+0100
END:DAYLIGHT
END:VTIMEZONE
BEGIN:VEVENT
CATEGORIES:Give it a Go session
CREATED:20230914T113645
DESCRIPTION:This is an opportunity to test out if you would like to become
  a member and meet like-minded craft friends.\n\nhttps://www.leicesteruni
 on.com/events/15270/5058/\n
DTEND:20231003T200000
DTSTAMP:20260419T234251Z
DTSTART:20231003T183000
LAST-MODIFIED:20230914T121937
LOCATION:SU training room
SEQUENCE:0
SUMMARY:Give it a Go - Friendship Bracelets.
UID:5c84a1f4-c161-44cc-87ca-ce52bd73e2ad
URL:https://www.leicesterunion.com/events/15270/5058/
X-ALT-DESC;FMTTYPE=text/html:<html><head><base href="https://www.leicester
 union.com"></head><body><p>This is an opportunity to test out if you woul
 d like to become a member and meet like-minded craft friends.</p><p>https
 ://www.leicesterunion.com/events/15270/5058/</p>\n<p>We will be making&nb
 sp\;friendship bracelets.&nbsp\;This is a chance to meet potential member
 s and test out if you would like to join the club. Anyone is welcome to c
 ome along and give it a go!&nbsp\;</p></body></html>
END:VEVENT
END:VCALENDAR
