BEGIN:VCALENDAR
METHOD:PUBLISH
PRODID:-//github.com/rianjs/ical.net//NONSGML ical.net 4.0//EN
URL:https://www.leicesterunion.com/ents/event/ics/5752/
VERSION:2.0
X-PUBLISHED-TTL:PT1H
X-WR-CALNAME:Cubing Sessions (5752)
BEGIN:VTIMEZONE
TZID:GMT Standard Time
X-LIC-LOCATION:Europe/London
BEGIN:STANDARD
DTSTART:20241027T020000
RRULE:FREQ=YEARLY;BYDAY=4SU;BYMONTH=10
TZNAME:GMT
TZOFFSETFROM:+0100
TZOFFSETTO:+0000
END:STANDARD
BEGIN:DAYLIGHT
DTSTART:20250330T010000
RRULE:FREQ=YEARLY;BYDAY=-1SU;BYMONTH=3
TZNAME:BST
TZOFFSETFROM:+0000
TZOFFSETTO:+0100
END:DAYLIGHT
END:VTIMEZONE
BEGIN:VEVENT
CATEGORIES:Student Group
CREATED:20240121T151217
DESCRIPTION:Weekly Cubing Meetups for our members. Hang out with other stu
 dents who love all things twisty puzzles\, learn new skills and have fun!
 \n\nhttps://www.leicesterunion.com/events/19572/5752/\n
DTEND:20240307T190000
DTSTAMP:20260423T101904Z
DTSTART:20240307T173000
LAST-MODIFIED:20240121T151217
LOCATION:Ken Edwards 526
SEQUENCE:0
SUMMARY:Cubing Sessions
UID:6e96e808-0c3d-4824-90e8-242ec050d5df
URL:https://www.leicesterunion.com/events/19572/5752/
X-ALT-DESC;FMTTYPE=text/html:<html><head><base href="https://www.leicester
 union.com"></head><body><p>Weekly Cubing Meetups for our members. Hang ou
 t with other students who love all things twisty puzzles\, learn new skil
 ls and have fun!</p><p>https://www.leicesterunion.com/events/19572/5752/<
 /p>\n</body></html>
END:VEVENT
END:VCALENDAR
