BEGIN:VCALENDAR
METHOD:PUBLISH
PRODID:-//github.com/rianjs/ical.net//NONSGML ical.net 4.0//EN
URL:https://www.leicesterunion.com/ents/event/ics/5782/
VERSION:2.0
X-PUBLISHED-TTL:PT1H
X-WR-CALNAME:Weekly Club Meetings (5782)
BEGIN:VTIMEZONE
TZID:GMT Standard Time
X-LIC-LOCATION:Europe/London
BEGIN:STANDARD
DTSTART:20241027T020000
RRULE:FREQ=YEARLY;BYDAY=4SU;BYMONTH=10
TZNAME:GMT
TZOFFSETFROM:+0100
TZOFFSETTO:+0000
END:STANDARD
BEGIN:DAYLIGHT
DTSTART:20250330T010000
RRULE:FREQ=YEARLY;BYDAY=-1SU;BYMONTH=3
TZNAME:BST
TZOFFSETFROM:+0000
TZOFFSETTO:+0100
END:DAYLIGHT
END:VTIMEZONE
BEGIN:VEVENT
CREATED:20240124T165144
DESCRIPTION:Come on in for our weekly gathering! Check discord for specifi
 c events\n\nhttps://www.leicesterunion.com/events/19535/5782/\n
DTEND:20240409T200000
DTSTAMP:20260424T183118Z
DTSTART:20240409T180000
LAST-MODIFIED:20240124T165144
LOCATION:
SEQUENCE:0
SUMMARY:Weekly Club Meetings
UID:f2ce0ddd-f4ae-48a7-9503-cd7c88d55c5c
URL:https://www.leicesterunion.com/events/19535/5782/
X-ALT-DESC;FMTTYPE=text/html:<html><head><base href="https://www.leicester
 union.com"></head><body><p>Come on in for our weekly gathering! Check dis
 cord for specific events</p><p>https://www.leicesterunion.com/events/1953
 5/5782/</p>\n<p>The weekly social meetings are designed to be a relaxed\,
  low-pressure environment for autistic and neurodiverse students to come 
 and hang out. While we have structured events going on most weeks\, the a
 ctivities are 100% optional and you are more than welcome to come into th
 e space just to hang out.</p>\n\n<p>Feel free to bring your favourite act
 ivity\, video games\, or just yourself to enjoy the social presence of ot
 hers. Interaction is&nbsp\;<strong>not required&nbsp\;</strong>if you sim
 ply would like a place to come and be around other people.&nbsp\;</p>\n\n
 <p>Fidget toys\, snacks\, and drinks will be provided. There will also be
  a quiet space for students to sit and do their own activities as they wi
 sh. Colouring books as well as card games are always available for playin
 g as well!</p></body></html>
END:VEVENT
END:VCALENDAR
