BEGIN:VCALENDAR
METHOD:PUBLISH
PRODID:-//github.com/rianjs/ical.net//NONSGML ical.net 4.0//EN
URL:https://www.leicesterunion.com/ents/event/ics/6532/
VERSION:2.0
X-PUBLISHED-TTL:PT1H
X-WR-CALNAME:GIAG - Introduction to Kendo (6532)
BEGIN:VTIMEZONE
TZID:GMT Standard Time
X-LIC-LOCATION:Europe/London
BEGIN:STANDARD
DTSTART:20241027T020000
RRULE:FREQ=YEARLY;BYDAY=4SU;BYMONTH=10
TZNAME:GMT
TZOFFSETFROM:+0100
TZOFFSETTO:+0000
END:STANDARD
BEGIN:DAYLIGHT
DTSTART:20250330T010000
RRULE:FREQ=YEARLY;BYDAY=-1SU;BYMONTH=3
TZNAME:BST
TZOFFSETFROM:+0000
TZOFFSETTO:+0100
END:DAYLIGHT
END:VTIMEZONE
BEGIN:VEVENT
CATEGORIES:Student Group
CATEGORIES:De-Stress campaign
CATEGORIES:Sports
CATEGORIES:Give it a Go session
CREATED:20240911T113020
DESCRIPTION:This is a free Give-It-A-Go session for Kendo. Come along and 
 try it out!\n\nhttps://www.leicesterunion.com/events/20781/6532/\n
DTEND:20241004T183000
DTSTAMP:20260425T210433Z
DTSTART:20241004T173000
LAST-MODIFIED:20240911T114329
LOCATION:Roger Bettles Sports Centre Studio 2
SEQUENCE:0
SUMMARY:GIAG - Introduction to Kendo
UID:f9916a5d-8be3-4609-82b8-6a936227a73b
URL:https://www.leicesterunion.com/events/20781/6532/
X-ALT-DESC;FMTTYPE=text/html:<html><head><base href="https://www.leicester
 union.com"></head><body><p>This is a free Give-It-A-Go session for Kendo.
  Come along and try it out!</p><p>https://www.leicesterunion.com/events/2
 0781/6532/</p>\n</body></html>
END:VEVENT
END:VCALENDAR
