BEGIN:VCALENDAR
METHOD:PUBLISH
PRODID:-//github.com/rianjs/ical.net//NONSGML ical.net 4.0//EN
URL:https://www.leicesterunion.com/ents/event/ics/7566/
VERSION:2.0
X-PUBLISHED-TTL:PT1H
X-WR-CALNAME:GIAG Tabletop Games (7566)
BEGIN:VTIMEZONE
TZID:GMT Standard Time
X-LIC-LOCATION:Europe/London
BEGIN:STANDARD
DTSTART:20241027T020000
RRULE:FREQ=YEARLY;BYDAY=4SU;BYMONTH=10
TZNAME:GMT
TZOFFSETFROM:+0100
TZOFFSETTO:+0000
END:STANDARD
BEGIN:DAYLIGHT
DTSTART:20250330T010000
RRULE:FREQ=YEARLY;BYDAY=-1SU;BYMONTH=3
TZNAME:BST
TZOFFSETFROM:+0000
TZOFFSETTO:+0100
END:DAYLIGHT
END:VTIMEZONE
BEGIN:VEVENT
CATEGORIES:Freshers
CATEGORIES:Give it a Go session
CREATED:20250907T184618
DESCRIPTION:Come and see what Tabletop Games Society is about! \n\nWe'll h
 ave D&D\, Tabletop Roleplaying Games\, Warhammer\, Mini Painting\, Social
  Deduction Games\, Board Games\, TCGs and More! \n\nWelcome to Freshers a
 nd previous students alike. See you there!\n\nhttps://www.leicesterunion.
 com/events/6862/7566/\n
DTEND:20250924T213000
DTSTAMP:20260421T100850Z
DTSTART:20250924T180000
LAST-MODIFIED:20250907T184628
LOCATION:Sir Bob Burgess Building\, Room 1.02 & 1.03
SEQUENCE:0
SUMMARY:GIAG Tabletop Games
UID:9591ed6c-5ed2-4b5a-a98f-5567fb6077d6
URL:https://www.leicesterunion.com/events/6862/7566/
X-ALT-DESC;FMTTYPE=text/html:<html><head><base href="https://www.leicester
 union.com"></head><body><p>Come and see what Tabletop Games Society is ab
 out! \n\nWe'll have D&D\, Tabletop Roleplaying Games\, Warhammer\, Mini P
 ainting\, Social Deduction Games\, Board Games\, TCGs and More! \n\nWelco
 me to Freshers and previous students alike. See you there!</p><p>https://
 www.leicesterunion.com/events/6862/7566/</p>\n<p><strong>Come and see wha
 t Tabletop Games Society is about!&nbsp\;</strong></p>\n\n<p><strong>We&#
 39\;ll have D&amp\;D\, Tabletop Roleplaying Games\, Warhammer\, Mini Pain
 ting\, Social Deduction Games\, Board Games\, TCGs and More!&nbsp\;</stro
 ng></p>\n\n<p><strong>Welcome to Freshers and previous students alike. Se
 e you there!</strong></p></body></html>
END:VEVENT
END:VCALENDAR
