BEGIN:VCALENDAR
METHOD:PUBLISH
PRODID:-//github.com/rianjs/ical.net//NONSGML ical.net 4.0//EN
URL:https://www.leicesterunion.com/ents/event/ics/7580/
VERSION:2.0
X-PUBLISHED-TTL:PT1H
X-WR-CALNAME:GIAG LGBTea (7580)
BEGIN:VTIMEZONE
TZID:GMT Standard Time
X-LIC-LOCATION:Europe/London
BEGIN:STANDARD
DTSTART:20241027T020000
RRULE:FREQ=YEARLY;BYDAY=4SU;BYMONTH=10
TZNAME:GMT
TZOFFSETFROM:+0100
TZOFFSETTO:+0000
END:STANDARD
BEGIN:DAYLIGHT
DTSTART:20250330T010000
RRULE:FREQ=YEARLY;BYDAY=-1SU;BYMONTH=3
TZNAME:BST
TZOFFSETFROM:+0000
TZOFFSETTO:+0100
END:DAYLIGHT
END:VTIMEZONE
BEGIN:VEVENT
CATEGORIES:De-Stress campaign
CATEGORIES:Advice Service event
CATEGORIES:Freshers
CATEGORIES:Give it a Go session
CREATED:20250909T180843
DESCRIPTION:The first of our weekly queer tea and coffee catch-ups. Come a
 long for free hot drinks and to meet some of the queer community at UOL. 
 \n\nRainbow UoL lanyards will be available for everyone who wants one!\n\
 nhttps://www.leicesterunion.com/events/7220/7580/\n
DTEND:20250924T160000
DTSTAMP:20260421T100601Z
DTSTART:20250924T140000
LAST-MODIFIED:20250909T180843
LOCATION:Liberation room in Percy Gee (SU)
SEQUENCE:0
SUMMARY:GIAG LGBTea
UID:f5384f9f-4cc6-4d50-8c56-2a194bcb7853
URL:https://www.leicesterunion.com/events/7220/7580/
X-ALT-DESC;FMTTYPE=text/html:<html><head><base href="https://www.leicester
 union.com"></head><body><p>The first of our weekly queer tea and coffee c
 atch-ups. Come along for free hot drinks and to meet some of the queer co
 mmunity at UOL. \n\nRainbow UoL lanyards will be available for everyone w
 ho wants one!</p><p>https://www.leicesterunion.com/events/7220/7580/</p>\
 n<p>The first of our weekly queer tea and coffee catch-ups. Come along fo
 r free hot drinks and to meet some of the queer community at UoL. LGBTea 
 is on every Wednesday 2-4pm during term time and is an informal\, chilled
  out&nbsp\;event for queer students to get to know each other.</p>\n\n<p>
 Rainbow UoL lanyards will be available for everyone who wants one!</p></b
 ody></html>
END:VEVENT
END:VCALENDAR
