BEGIN:VCALENDAR
METHOD:PUBLISH
PRODID:-//github.com/rianjs/ical.net//NONSGML ical.net 4.0//EN
URL:https://www.leicesterunion.com/ents/event/ics/7585/
VERSION:2.0
X-PUBLISHED-TTL:PT1H
X-WR-CALNAME:Freshers Fair (7585)
BEGIN:VTIMEZONE
TZID:GMT Standard Time
X-LIC-LOCATION:Europe/London
BEGIN:STANDARD
DTSTART:20241027T020000
RRULE:FREQ=YEARLY;BYDAY=4SU;BYMONTH=10
TZNAME:GMT
TZOFFSETFROM:+0100
TZOFFSETTO:+0000
END:STANDARD
BEGIN:DAYLIGHT
DTSTART:20250330T010000
RRULE:FREQ=YEARLY;BYDAY=-1SU;BYMONTH=3
TZNAME:BST
TZOFFSETFROM:+0000
TZOFFSETTO:+0100
END:DAYLIGHT
END:VTIMEZONE
BEGIN:VEVENT
CATEGORIES:Freshers
CREATED:20250910T140730
DESCRIPTION:https://www.leicesterunion.com/events/18895/7585/\n
DTEND:20250923T160000
DTSTAMP:20260421T100437Z
DTSTART:20250923T100000
LAST-MODIFIED:20250910T140734
LOCATION:Percy Gee
SEQUENCE:0
SUMMARY:Freshers Fair
UID:1517e6b4-a5dd-473d-8a84-b53e5540db07
URL:https://www.leicesterunion.com/events/18895/7585/
X-ALT-DESC;FMTTYPE=text/html:<html><head><base href="https://www.leicester
 union.com"></head><body><p>https://www.leicesterunion.com/events/18895/75
 85/</p>\n</body></html>
END:VEVENT
END:VCALENDAR
