BEGIN:VCALENDAR
METHOD:PUBLISH
PRODID:-//github.com/rianjs/ical.net//NONSGML ical.net 4.0//EN
URL:https://www.leicesterunion.com/ents/event/ics/7630/
VERSION:2.0
X-PUBLISHED-TTL:PT1H
X-WR-CALNAME:Board games and pizza meet and greet (7630)
BEGIN:VTIMEZONE
TZID:GMT Standard Time
X-LIC-LOCATION:Europe/London
BEGIN:STANDARD
DTSTART:20241027T020000
RRULE:FREQ=YEARLY;BYDAY=4SU;BYMONTH=10
TZNAME:GMT
TZOFFSETFROM:+0100
TZOFFSETTO:+0000
END:STANDARD
BEGIN:DAYLIGHT
DTSTART:20250330T010000
RRULE:FREQ=YEARLY;BYDAY=-1SU;BYMONTH=3
TZNAME:BST
TZOFFSETFROM:+0000
TZOFFSETTO:+0100
END:DAYLIGHT
END:VTIMEZONE
BEGIN:VEVENT
CATEGORIES:Student Group
CATEGORIES:Freshers
CATEGORIES:Give it a Go session
CATEGORIES:Volunteering
CREATED:20250920T123341
DESCRIPTION:Meet and greet social for anyone interested in first aid or jo
 ining the society to meet everyone in a relaxed social environment. Free 
 pizza!!\n\nhttps://www.leicesterunion.com/events/6769/7630/\n
DTEND:20250926T200000
DTSTAMP:20260421T100518Z
DTSTART:20250926T180000
LAST-MODIFIED:20250920T123341
LOCATION:Sir Bob Burgess\, 1.04
SEQUENCE:0
SUMMARY:Board games and pizza meet and greet
UID:a53b5063-64f4-4ff4-ab40-0ffb00af3e07
URL:https://www.leicesterunion.com/events/6769/7630/
X-ALT-DESC;FMTTYPE=text/html:<html><head><base href="https://www.leicester
 union.com"></head><body><p>Meet and greet social for anyone interested in
  first aid or joining the society to meet everyone in a relaxed social en
 vironment. Free pizza!!</p><p>https://www.leicesterunion.com/events/6769/
 7630/</p>\n</body></html>
END:VEVENT
END:VCALENDAR
