BEGIN:VCALENDAR
METHOD:PUBLISH
PRODID:-//github.com/rianjs/ical.net//NONSGML ical.net 4.0//EN
URL:https://www.leicesterunion.com/ents/event/ics/7645/
VERSION:2.0
X-PUBLISHED-TTL:PT1H
X-WR-CALNAME:Outdoor Give It A Go (7645)
BEGIN:VTIMEZONE
TZID:GMT Standard Time
X-LIC-LOCATION:Europe/London
BEGIN:STANDARD
DTSTART:20241027T020000
RRULE:FREQ=YEARLY;BYDAY=4SU;BYMONTH=10
TZNAME:GMT
TZOFFSETFROM:+0100
TZOFFSETTO:+0000
END:STANDARD
BEGIN:DAYLIGHT
DTSTART:20250330T010000
RRULE:FREQ=YEARLY;BYDAY=-1SU;BYMONTH=3
TZNAME:BST
TZOFFSETFROM:+0000
TZOFFSETTO:+0100
END:DAYLIGHT
END:VTIMEZONE
BEGIN:VEVENT
CATEGORIES:De-Stress campaign
CATEGORIES:Sports
CATEGORIES:Freshers
CATEGORIES:Give it a Go session
CREATED:20250922T191345
DESCRIPTION:Our first give it a go session\, which will be hosted at Victo
 ria Park skatepark\, weather permitting.\n\nhttps://www.leicesterunion.co
 m/events/17586/7645/\n
DTEND:20251001T160000
DTSTAMP:20260423T120118Z
DTSTART:20251001T140000
LAST-MODIFIED:20250922T191345
LOCATION:Victoria Park Skatepark
SEQUENCE:0
SUMMARY:Outdoor Give It A Go
UID:a2f49103-911e-4f1a-b455-ea98abd33885
URL:https://www.leicesterunion.com/events/17586/7645/
X-ALT-DESC;FMTTYPE=text/html:<html><head><base href="https://www.leicester
 union.com"></head><body><p>Our first give it a go session\, which will be
  hosted at Victoria Park skatepark\, weather permitting.</p><p>https://ww
 w.leicesterunion.com/events/17586/7645/</p>\n</body></html>
END:VEVENT
END:VCALENDAR
