BEGIN:VCALENDAR
METHOD:PUBLISH
PRODID:-//github.com/rianjs/ical.net//NONSGML ical.net 4.0//EN
URL:https://www.leicesterunion.com/ents/event/ics/7658/
VERSION:2.0
X-PUBLISHED-TTL:PT1H
X-WR-CALNAME:GIAG Fencing 1200-1300 (7658)
BEGIN:VTIMEZONE
TZID:GMT Standard Time
X-LIC-LOCATION:Europe/London
BEGIN:STANDARD
DTSTART:20241027T020000
RRULE:FREQ=YEARLY;BYDAY=4SU;BYMONTH=10
TZNAME:GMT
TZOFFSETFROM:+0100
TZOFFSETTO:+0000
END:STANDARD
BEGIN:DAYLIGHT
DTSTART:20250330T010000
RRULE:FREQ=YEARLY;BYDAY=-1SU;BYMONTH=3
TZNAME:BST
TZOFFSETFROM:+0000
TZOFFSETTO:+0100
END:DAYLIGHT
END:VTIMEZONE
BEGIN:VEVENT
CATEGORIES:Sports
CREATED:20250924T121917
DESCRIPTION:https://www.leicesterunion.com/events/6741/7658/\n
DTEND:20250928T130000
DTSTAMP:20260421T100426Z
DTSTART:20250928T120000
LAST-MODIFIED:20250924T123513
LOCATION:
SEQUENCE:0
SUMMARY:GIAG Fencing 1200-1300
UID:f65afcb0-5f2d-4c83-bad5-cc4776ad9b91
URL:https://www.leicesterunion.com/events/6741/7658/
X-ALT-DESC;FMTTYPE=text/html:<html><head><base href="https://www.leicester
 union.com"></head><body><p>https://www.leicesterunion.com/events/6741/765
 8/</p>\n<p>Location: Danielle Brown Studio (next to the gym on campus)</p
 ></body></html>
END:VEVENT
END:VCALENDAR
