BEGIN:VCALENDAR
METHOD:PUBLISH
PRODID:-//github.com/rianjs/ical.net//NONSGML ical.net 4.0//EN
URL:https://www.leicesterunion.com/ents/event/ics/8425/
VERSION:2.0
X-PUBLISHED-TTL:PT1H
X-WR-CALNAME:BJJ Charity Class (8425)
BEGIN:VTIMEZONE
TZID:GMT Standard Time
X-LIC-LOCATION:Europe/London
BEGIN:STANDARD
DTSTART:20241027T020000
RRULE:FREQ=YEARLY;BYDAY=4SU;BYMONTH=10
TZNAME:GMT
TZOFFSETFROM:+0100
TZOFFSETTO:+0000
END:STANDARD
BEGIN:DAYLIGHT
DTSTART:20250330T010000
RRULE:FREQ=YEARLY;BYDAY=-1SU;BYMONTH=3
TZNAME:BST
TZOFFSETFROM:+0000
TZOFFSETTO:+0100
END:DAYLIGHT
END:VTIMEZONE
BEGIN:VEVENT
CREATED:20260214T164959
DESCRIPTION:https://www.leicesterunion.com/events/7627/8425/\n
DTEND:20260219T180000
DTSTAMP:20260422T084711Z
DTSTART:20260219T170000
LAST-MODIFIED:20260214T164959
LOCATION:
SEQUENCE:0
SUMMARY:BJJ Charity Class
UID:571149ed-2306-44b2-bed3-847ae930e59d
URL:https://www.leicesterunion.com/events/7627/8425/
X-ALT-DESC;FMTTYPE=text/html:<html><head><base href="https://www.leicester
 union.com"></head><body><p>https://www.leicesterunion.com/events/7627/842
 5/</p>\n</body></html>
END:VEVENT
END:VCALENDAR
