BEGIN:VCALENDAR
METHOD:PUBLISH
PRODID:-//github.com/rianjs/ical.net//NONSGML ical.net 4.0//EN
URL:https://www.leicesterunion.com/ents/event/ics/8441/
VERSION:2.0
X-PUBLISHED-TTL:PT1H
X-WR-CALNAME:LUSCR Weekly practices (8441)
BEGIN:VTIMEZONE
TZID:GMT Standard Time
X-LIC-LOCATION:Europe/London
BEGIN:STANDARD
DTSTART:20241027T020000
RRULE:FREQ=YEARLY;BYDAY=4SU;BYMONTH=10
TZNAME:GMT
TZOFFSETFROM:+0100
TZOFFSETTO:+0000
END:STANDARD
BEGIN:DAYLIGHT
DTSTART:20250330T010000
RRULE:FREQ=YEARLY;BYDAY=-1SU;BYMONTH=3
TZNAME:BST
TZOFFSETFROM:+0000
TZOFFSETTO:+0100
END:DAYLIGHT
END:VTIMEZONE
BEGIN:VEVENT
CATEGORIES:Student Group
CATEGORIES:Give it a Go session
CREATED:20260215T164821
DESCRIPTION:https://www.leicesterunion.com/events/23490/8441/\n
DTEND;VALUE=DATE:20261007
DTSTAMP:20260426T033551Z
DTSTART;VALUE=DATE:20260429
LAST-MODIFIED:20260423T133648
LOCATION:St Mary de Castro\, Leicester
SEQUENCE:0
SUMMARY:LUSCR Weekly practices
UID:9653f8cc-db4f-4781-9a92-87978d7ffb09
URL:https://www.leicesterunion.com/events/23490/8441/
X-ALT-DESC;FMTTYPE=text/html:<html><head><base href="https://www.leicester
 union.com"></head><body><p>https://www.leicesterunion.com/events/23490/84
 41/</p>\n</body></html>
END:VEVENT
END:VCALENDAR
