BEGIN:VCALENDAR
METHOD:PUBLISH
PRODID:-//github.com/rianjs/ical.net//NONSGML ical.net 4.0//EN
URL:https://www.leicesterunion.com/ents/event/ics/8511/
VERSION:2.0
X-PUBLISHED-TTL:PT1H
X-WR-CALNAME:Advanced (8511)
BEGIN:VTIMEZONE
TZID:GMT Standard Time
X-LIC-LOCATION:Europe/London
BEGIN:STANDARD
DTSTART:20241027T020000
RRULE:FREQ=YEARLY;BYDAY=4SU;BYMONTH=10
TZNAME:GMT
TZOFFSETFROM:+0100
TZOFFSETTO:+0000
END:STANDARD
BEGIN:DAYLIGHT
DTSTART:20250330T010000
RRULE:FREQ=YEARLY;BYDAY=-1SU;BYMONTH=3
TZNAME:BST
TZOFFSETFROM:+0000
TZOFFSETTO:+0100
END:DAYLIGHT
END:VTIMEZONE
BEGIN:VEVENT
CREATED:20260227T195230
DESCRIPTION:https://www.leicesterunion.com/events/7627/8511/\n
DTEND:20260303T190000
DTSTAMP:20260421T083538Z
DTSTART:20260303T180000
LAST-MODIFIED:20260227T195230
LOCATION:
SEQUENCE:0
SUMMARY:Advanced
UID:b6fa2cbc-ff83-47ba-bde1-14a8ed9f683a
URL:https://www.leicesterunion.com/events/7627/8511/
X-ALT-DESC;FMTTYPE=text/html:<html><head><base href="https://www.leicester
 union.com"></head><body><p>https://www.leicesterunion.com/events/7627/851
 1/</p>\n</body></html>
END:VEVENT
END:VCALENDAR
