BEGIN:VCALENDAR
METHOD:PUBLISH
PRODID:-//github.com/rianjs/ical.net//NONSGML ical.net 4.0//EN
URL:https://www.leicesterunion.com/ents/event/ics/8652/
VERSION:2.0
X-PUBLISHED-TTL:PT1H
X-WR-CALNAME:Nursing Society Ball (8652)
BEGIN:VTIMEZONE
TZID:GMT Standard Time
X-LIC-LOCATION:Europe/London
BEGIN:STANDARD
DTSTART:20241027T020000
RRULE:FREQ=YEARLY;BYDAY=4SU;BYMONTH=10
TZNAME:GMT
TZOFFSETFROM:+0100
TZOFFSETTO:+0000
END:STANDARD
BEGIN:DAYLIGHT
DTSTART:20250330T010000
RRULE:FREQ=YEARLY;BYDAY=-1SU;BYMONTH=3
TZNAME:BST
TZOFFSETFROM:+0000
TZOFFSETTO:+0100
END:DAYLIGHT
END:VTIMEZONE
BEGIN:VEVENT
CREATED:20260418T141259
DESCRIPTION:We are SO happy to welcome you to our end of year ball! \nPlus
  ones are welcome\, and you can purchase unto 2 tickets per membership.\n
 Any questions\, please don't hesitate to contact us!\nWe can't wait to ce
 lebrate with you ❤️\n\nhttps://www.leicesterunion.com/events/18972/8652/\
 n
DTEND:20260626T220000
DTSTAMP:20260419T183049Z
DTSTART:20260626T180000
LAST-MODIFIED:20260418T141259
LOCATION:Peter pizzeria\, 9 Welford Road Pl. LE1 6ZH
SEQUENCE:0
SUMMARY:Nursing Society Ball
UID:799414c6-598c-458d-8d49-690083dce1dd
URL:https://www.leicesterunion.com/events/18972/8652/
X-ALT-DESC;FMTTYPE=text/html:<html><head><base href="https://www.leicester
 union.com"></head><body><p>We are SO happy to welcome you to our end of y
 ear ball! \nPlus ones are welcome\, and you can purchase unto 2 tickets p
 er membership.\nAny questions\, please don't hesitate to contact us!\nWe 
 can't wait to celebrate with you ❤️</p><p>https://www.leicesterunion.com/
 events/18972/8652/</p>\n</body></html>
END:VEVENT
END:VCALENDAR
